BEGIN:VCALENDAR
VERSION:2.0
PRODID:-// - ECPv6.8.1//NONSGML v1.0//EN
CALSCALE:GREGORIAN
METHOD:PUBLISH
X-ORIGINAL-URL:https://petindica.com.br
X-WR-CALDESC:Eventos para 
REFRESH-INTERVAL;VALUE=DURATION:PT1H
X-Robots-Tag:noindex
X-PUBLISHED-TTL:PT1H
BEGIN:VTIMEZONE
TZID:America/Sao_Paulo
BEGIN:STANDARD
TZOFFSETFROM:-0300
TZOFFSETTO:-0300
TZNAME:-03
DTSTART:20220101T000000
END:STANDARD
END:VTIMEZONE
BEGIN:VEVENT
DTSTART;VALUE=DATE:20240828
DTEND;VALUE=DATE:20240829
DTSTAMP:20260423T134009
CREATED:20240519T134419Z
LAST-MODIFIED:20240519T134419Z
UID:31570-1724803200-1724889599@petindica.com.br
SUMMARY:Curso Online: Congresso nacional de cardiologia veterinária (2ª edição) * MEDVET EXPERIENCE
DESCRIPTION:Atenção\, veterinários apaixonados por cardiologia! Apresentamos a 2ª edição do Congresso Nacional de Cardiologia Veterinária – MEDVET EXPERIENCE! 🌟 \n🗓️ Marque na sua agenda: 28 a 30 de Agosto👇🏻 \n🎤 15 palestras com os melhores profissionais da área.\n🌐 100% online – participe de qualquer lugar!\n🔄 180 dias de acesso às gravações das palestras. \n🔍 Explore as atualizações mais recentes e os desafios enfrentados pelos veterinários na cardiologia animal. Esteja pronto para aprender com os melhores profissionais do ramo. \n🐶 Garanta sua vaga com valor promocional do 1º lote até 30/06: R$ 120\,00. \n👉 Você pode obter maiores informações e realizar a sua inscrição neste link: https://medvetexperience.fluirdigital.com/cardiologia \nNão perca essa oportunidade! \nMEDVET EXPERIENCE.
URL:https://petindica.com.br/cursoseventos/curso-online-congresso-nacional-de-cardiologia-veterinaria-2a-edicao-medvet-experience/
LOCATION:Curso Online
CATEGORIES:Curso Online,Veterinários
ATTACH;FMTTYPE=image/jpeg:https://petindica.com.br/wp-content/uploads/2024/05/Eventos-PetIndica-Curso-Online-MEDVET-EXPERIENCE-28-a-30.08.24.jpeg
END:VEVENT
BEGIN:VEVENT
DTSTART;TZID=America/Sao_Paulo:20240501T090000
DTEND;TZID=America/Sao_Paulo:20240501T170000
DTSTAMP:20260423T134009
CREATED:20240418T140144Z
LAST-MODIFIED:20240418T140144Z
UID:31211-1714554000-1714582800@petindica.com.br
SUMMARY:Curso Online: 1º Congresso nacional de nefrologia veterinária * MEDVET EXPERIENCE
DESCRIPTION:Descubra a novidade: 17 palestras exclusivas no 1º Congresso Nacional de Nefrologia Veterinária! 👇🏻🔥 \nEstamos empolgados em compartilhar uma super novidade com você! O 1º Congresso Nacional de Nefrologia Veterinária está chegando com ainda mais conteúdo e oportunidades incríveis. \nAo invés das 12 a 15 palestras planejadas inicialmente\, agora você terá acesso a 17 palestras exclusivas\, tudo reunido em um evento online imperdível. E sabe o que é melhor? Você poderá aproveitar todo esse conhecimento do conforto da sua casa\, entre os dias 01 a 03 de Maio de 2024. \nAlém disso\, pensando na sua comodidade e flexibilidade\, disponibilizaremos as gravações do evento por 180 dias. Isso significa que você terá tempo de sobra para revisar e absorver cada detalhe das palestras\, no seu ritmo. \nE tem mais uma coisa: o dia 01 de Maio é feriado! Então\, você terá ainda mais facilidade para acompanhar todas as transmissões\, sem se preocupar com a correria do dia a dia. \nNão perca essa oportunidade única de aprimorar seus conhecimentos e se destacar na área da nefrologia veterinária. Garanta já o seu lugar neste congresso imperdível! \nInvestimento: R$ 150\,00 (até o dia 22/04) / R$ 180\,00 (até o dia 03/05). \nEstamos ansiosos para contar com a sua participação neste evento incrível! \nVocê pode obter maiores informações e realizar a sua inscrição neste link: https://medvetexperience.fluirdigital.com/nefrologia- \nMEDVET EXPERIENCE.
URL:https://petindica.com.br/cursoseventos/curso-online-1o-congresso-nacional-de-nefrologia-veterinaria-medvet-experience/
LOCATION:Curso Online
CATEGORIES:Curso Online,Veterinários
ATTACH;FMTTYPE=image/jpeg:https://petindica.com.br/wp-content/uploads/2024/04/Eventos-PetIndica-Curso-Online-MEDVET-EXPERIENCE-01-a-03.05.2024.jpeg
END:VEVENT
BEGIN:VEVENT
DTSTART;TZID=America/Sao_Paulo:20231122T080000
DTEND;TZID=America/Sao_Paulo:20231122T180000
DTSTAMP:20260423T134009
CREATED:20231018T233345Z
LAST-MODIFIED:20231018T233345Z
UID:29971-1700640000-1700676000@petindica.com.br
SUMMARY:Curso Online: 2º Congresso nacional de geriatria veterinária * MEDVET EXPERIENCE
DESCRIPTION:🎉 Prepare-se para a 2ª edição do evento mais esperado do ano para apaixonados por Geriatria Veterinária! Apresentamos com orgulho o Congresso Nacional de Geriatria Veterinária – 2ª Edição! \n📅 Marque no seu calendário: de 22 a 24 de novembro\, estaremos reunidos virtualmente para três dias incríveis de aprendizado e troca de experiências. \n🎙️ Mais de 15 palestras ministradas por profissionais renomados e experientes no cuidado e atendimento aos nossos peludinhos idosos estarão à sua disposição. Serão insights valiosos\, novidades clínicas e discussões aprofundadas que vão enriquecer sua prática profissional. \nAo se juntar a nós\, você terá acesso a um pacote completo de benefícios: \n✅ Mais de 15 palestras de alta qualidade;\n✅ Certificado nominal com carga horária de 20 horas\, valorizando o seu conhecimento;\n✅ Participação em um grupo exclusivo no Telegram para networking e dúvidas;\n✅ Acesso às gravações de todo o evento por 180 dias\, permitindo que você reveja e aprofunde seus conhecimentos quando desejar. \nO Congresso Nacional de Geriatria Veterinária – 2ª Edição\, é o ponto de encontro essencial para quem busca se destacar no cuidado com nossos amiguinhos de quatro patas na fase da vida mais madura. \n2º Lote (até 31/10): R$ 150\,00. \n👉 Você pode obter maiores informações e realizar a sua inscrição neste link: https://medvetexperience.fluirdigital.com/ \nGaranta sua vaga agora mesmo! Te esperamos lá para juntos celebrarmos e fortalecermos a excelência na Geriatria Veterinária. \nProdução e Realização: @fluir_digital | @medvetexperience\nPatrocínio: @ibrainstituicao\nApoio: @ebramev | @sbgvoficial \nMEDVET EXPERIENCE.
URL:https://petindica.com.br/cursoseventos/curso-online-2o-congresso-nacional-de-geriatria-veterinaria-medvet-experience/
LOCATION:Curso Online
CATEGORIES:Curso Online,Veterinários
ATTACH;FMTTYPE=image/jpeg:https://petindica.com.br/wp-content/uploads/2023/10/Eventos-PetIndica-Curso-Online-MEDVET-EXPERIENCE-22-a-24.11.2023.jpeg
END:VEVENT
BEGIN:VEVENT
DTSTART;TZID=America/Sao_Paulo:20230823T080000
DTEND;TZID=America/Sao_Paulo:20230823T200000
DTSTAMP:20260423T134009
CREATED:20230720T001547Z
LAST-MODIFIED:20230720T001547Z
UID:29304-1692777600-1692820800@petindica.com.br
SUMMARY:Curso Online: Congresso de cardiologia veterinária * MEDVET EXPERIENCE
DESCRIPTION:CONGRESSO DE CARDIOLOGIA VETERINÁRIA MEDVET EXPERIENCE! \n📚 Prepare-se para uma experiência única e enriquecedora na área da cardiologia veterinária! \n📌 De 23 a 25 de Agosto/2023\, mergulhe em três dias de imersão total nesse fascinante campo da medicina veterinária. \n🚀 Reunindo grandes especialistas do setor\, esse evento 100% online é a oportunidade perfeita para expandir seus conhecimentos e se atualizar nas últimas tendências da cardiologia veterinária. \n🎙️ Ao todo\, serão + de 15 palestras inéditas\, abordando os mais diversos temas relacionados à cardiologia veterinária. Você terá acesso exclusivo a insights valiosos\, estratégias clínicas avançadas e descobertas recentes que irão aprimorar sua prática profissional! \n📹 E tem mais…\nPara garantir que você não perca nenhuma informação importante\, todas as palestras serão gravadas e estarão disponíveis para você por 180 dias após o evento. Dessa forma\, você poderá revisar e aprofundar seus conhecimentos sempre que desejar. \nPrepare-se para vivenciar uma experiência transformadora na cardiologia veterinária. Contamos com a sua presença! \nVocê pode obter maiores informações e realizar a sua inscrição neste link: https://medvetexperience.fluirdigital.com/cardiologia \nProdução e Realização: @fluir_digital\nPatrocínio: @ibrainstituicao \nMEDVET EXPERIENCE.
URL:https://petindica.com.br/cursoseventos/curso-online-congresso-de-cardiologia-veterinaria-medvet-experience/
LOCATION:Curso Online
CATEGORIES:Curso Online,Veterinários
ATTACH;FMTTYPE=image/jpeg:https://petindica.com.br/wp-content/uploads/2023/07/Eventos-PetIndica-Curso-Online-MEDVET-EXPERIENCE-23-a-25.08.2023.jpeg
END:VEVENT
BEGIN:VEVENT
DTSTART;TZID=America/Sao_Paulo:20230614T080000
DTEND;TZID=America/Sao_Paulo:20230614T200000
DTSTAMP:20260423T134009
CREATED:20230607T202234Z
LAST-MODIFIED:20230607T202234Z
UID:28967-1686729600-1686772800@petindica.com.br
SUMMARY:Curso Online: Congresso 5 especialidades veterinárias * MEDVET EXPERIENCE
DESCRIPTION:MUITO ALÉM de uma simples aula\, será uma GRANDE IMERSÃO!!! 📚🚀 \nO Congresso 5 Especialidades foi pensado em VOCÊ estudante de veterinária e médico veterinário! \nEstamos trazendo o MELHOR CONTEÚDO do mercado\, um conteúdo RICO e de EXTREMA QUALIDADE\, com os profissionais mais renomados do país. \nSerão um total de 15 palestras\, entre os dias 14 e 16/06\, e você receberá certificado de participação com a carga horária de 20 horas! Além disso\, disponibilizaremos todo o material gravado por 180 dias\, assim você poderá ver tudo com calma e estudar com tranquilidade no conforto de sua casa. \nTudo isso por um investimento de APENAS R$ 180\,00!!! 😱🎁 \nO nosso objetivo é que TODOS tenham acesso a este conteúdo\, por isso aproveite viu!!! Aproveite também para compartilhar com seus amigos veterinários para que NINGUÉM perca essa oportunidade. \nVocê pode obter maiores informações e realizar a sua inscrição neste link: https://medvetexperience.fluirdigital.com/5-especialidades \nProdução e Realização: @fluir_digital\nApoio: @gammavet_imagem \nMEDVET EXPERIENCE.
URL:https://petindica.com.br/cursoseventos/curso-online-congresso-5-especialidades-veterinarias-medvet-experience/
LOCATION:Curso Online
CATEGORIES:Curso Online,Veterinários
ATTACH;FMTTYPE=image/jpeg:https://petindica.com.br/wp-content/uploads/2023/06/Eventos-PetIndica-Curso-Online-MEDVET-EXPERIENCE-14-a-16.06.2023.jpeg
END:VEVENT
BEGIN:VEVENT
DTSTART;TZID=America/Sao_Paulo:20221123T080000
DTEND;TZID=America/Sao_Paulo:20221123T200000
DTSTAMP:20260423T134009
CREATED:20221106T182128Z
LAST-MODIFIED:20221106T182128Z
UID:26160-1669190400-1669233600@petindica.com.br
SUMMARY:Curso Online: 1º Congresso nacional de geriatria veterinária * MEDVET EXPERIENCE
DESCRIPTION:Vem aí o 1º Congresso Nacional de Geriatria Veterinária da Jornada MEDVET EXPERIENCE!!! \nSerá realizado entre os dias 23 a 25 de Novembro de 2022. \nSerão 3 dias de programação intensa sobre geriatria veterinária e muito aprendizado! \nTodas as palestras do congresso serão transmitidas em 2 turnos diferentes (manhã e tarde)\, para que você escolha o horário mais cômodo para assistir. Além disso\, como bônus\, disponibilizaremos 180 dias de acesso a todo o material do congresso\, para você assistir onde e quando quiser\, com tranquilidade. \nE não para por aí…😍\nTodos os inscritos receberão certificado de participação nominal e usufruirão do grupo exclusivo no telegram! \nNão fique de fora\, será imperdível!!! \n\n\n\nVocê pode obter maiores informações e realizar a sua inscrição neste link: https://www.sympla.com.br/evento-online/congresso-nacional-de-geriatria-veterinaria/1752354?lang=PT \nMEDVET EXPERIENCE.
URL:https://petindica.com.br/cursoseventos/curso-online-1o-congresso-nacional-de-geriatria-veterinaria-medvet-experience/
LOCATION:Curso Online
CATEGORIES:Curso Online,Veterinários
ATTACH;FMTTYPE=image/jpeg:https://petindica.com.br/wp-content/uploads/2022/11/Eventos-PetIndica-Curso-Online-MEDVET-EXPERIENCE-23-a-25.11.2022.jpeg
END:VEVENT
END:VCALENDAR