BEGIN:VCALENDAR
VERSION:2.0
PRODID:-// - ECPv6.8.1//NONSGML v1.0//EN
CALSCALE:GREGORIAN
METHOD:PUBLISH
X-ORIGINAL-URL:https://petindica.com.br
X-WR-CALDESC:Eventos para 
REFRESH-INTERVAL;VALUE=DURATION:PT1H
X-Robots-Tag:noindex
X-PUBLISHED-TTL:PT1H
BEGIN:VTIMEZONE
TZID:America/Sao_Paulo
BEGIN:STANDARD
TZOFFSETFROM:-0300
TZOFFSETTO:-0300
TZNAME:-03
DTSTART:20220101T000000
END:STANDARD
END:VTIMEZONE
BEGIN:VEVENT
DTSTART;TZID=America/Sao_Paulo:20220829T140000
DTEND;TZID=America/Sao_Paulo:20220829T180000
DTSTAMP:20260422T115424
CREATED:20220820T025613Z
LAST-MODIFIED:20220820T025613Z
UID:24727-1661781600-1661796000@petindica.com.br
SUMMARY:Curso teórico e prático sobre cirurgias torácicas de rotina * Escola Santa Juliana
DESCRIPTION:IMPERDÍVEL ✅ \nDias 29 e 30 de Agosto na unidade de João Pessoa em parceria com @ccvetnordeste. \nDia 29/08\, das 14h às 18h. Dia 30/08\, das 08h às 17h. \nOportunidade única para você profissional ou estudante da Área de Veterinária\, de adquirir conhecimento com @vetsurgery_trauma autor de livros e um dos melhores cirurgiões de tórax do Brasil. \nNão perca\, faça a diferença nos seus atendimentos\, realize cirurgias torácicas com a técnica correta\, conhecimento\, responsabilidade\, tenha resultados salvando vidas (o grande objetivo). \n“Cirurgias Torácicas de Rotina”. \nTEORIA:\na) Anatomia do Tórax;\nb) Toracotomia (tipos e indicações);\nc) Trauma Torácico;\nEtiologia | Sinais Clínicos | Métodos diagnósticos | Abordagem Clínico-cirúrgica;\nc.1) Pneumotórax;\nEtiologia | Tipos| Avaliação e manejo do Pneumotórax aberto| Avaliação e manejo do Pneumotórax fechado;\nc.2) Hérnia Diafragmática;\nEtiologia | Avaliação e manejo pré-operatório | Herniorrafia diafragmática pelo abdome | Herniorrafia diafragmática pelo tórax | Manejo pós-operatório | Prognóstico;\nc.3) Fratura de Costela;\nOsteossíntese de costela | Reconstrução de parede torácica | Manejo pós-operatório | Complicações;\nd) Pós-operatório. \nPRÁTICA:\n– Toracocentese;\n– Dreno Torácico;\n– Toracotomia (passo-a-passo e emergencial);\n– Lobectomia Pulmonar;\n– Herniorrafia Diafragmática pelo Tórax e pelo Abdome;\n– Osteossíntese de costela;\n– Toracorrafia; \n➡️ VAGAS LIMITADAS\, GARANTA JÁ A SUA. \nPara maiores informações e inscrições\, entre em contato pelo número: (83) 98794-4759. \nEscola Santa Juliana.
URL:https://petindica.com.br/cursoseventos/curso-teorico-e-pratico-sobre-cirurgias-toracicas-de-rotina-escola-santa-juliana/
LOCATION:Escola Santa Juliana | João Pessoa\, R. Pref. Luís Alberto Moreira Coutinho\, 69 - Mangabeira\, João Pessoa - PB\, 58058-800\, João Pessoa\, PB\, Brasil
CATEGORIES:Congresso e Seminário,Veterinários
ATTACH;FMTTYPE=image/jpeg:https://petindica.com.br/wp-content/uploads/2022/08/Eventos-PetIndica-Escola-Santa-Juliana-29-e-30.08.2022.jpeg
END:VEVENT
END:VCALENDAR