BEGIN:VCALENDAR
VERSION:2.0
PRODID:-// - ECPv6.8.1//NONSGML v1.0//EN
CALSCALE:GREGORIAN
METHOD:PUBLISH
X-ORIGINAL-URL:https://petindica.com.br
X-WR-CALDESC:Eventos para 
REFRESH-INTERVAL;VALUE=DURATION:PT1H
X-Robots-Tag:noindex
X-PUBLISHED-TTL:PT1H
BEGIN:VTIMEZONE
TZID:America/Sao_Paulo
BEGIN:STANDARD
TZOFFSETFROM:-0300
TZOFFSETTO:-0300
TZNAME:-03
DTSTART:20220101T000000
END:STANDARD
END:VTIMEZONE
BEGIN:VEVENT
DTSTART;VALUE=DATE:20220714
DTEND;VALUE=DATE:20220715
DTSTAMP:20260422T125144
CREATED:20220328T040149Z
LAST-MODIFIED:20220328T040149Z
UID:21900-1657756800-1657843199@petindica.com.br
SUMMARY:Curso de extensão de férias: medicina veterinária\, biologia\, anatomia e reabilitação de animais marinhos * Instituto IBIMM
DESCRIPTION:APENAS 15 VAGAS! Aprovado pelo Comitê de Ética de uso de Animais (CEUA)de acordo com a Lei.11794/08. \nInscrições abertas para o “Curso de extensão de férias: medicina veterinária\, biologia\, anatomia e reabilitação de animais marinhos”. \nDatas: 14 a 18/07/22. \nLOCAL: PERUÍBE – SP. \nFAÇA JÁ SUA INSCRIÇÃO: (19) 99420-9597 (WhatsApp). \nINVESTIMENTO:\nR$ 1.890\,00 à vista / 6X de R$ 335\,00 no Boleto (para quem começar a pagar em fevereiro) ou em até 18x no cartão com acréscimo de taxas. \n*APENAS 15 VAGAS* !!!\nObs.: por conta da pandemia\, a turma será reduzida e serão tomadas todas as medidas higiênico-sanitárias necessárias para segurança de todos.\nCancelamentos\, só serão aceitos até 07 dias após inscrição de acordo com o código de defesa do consumidor. \nVocê também pode obter maiores informações neste link: http://ibimm.org.br/curso-de-extensao-de-ferias-2022/ \nInstituto IBIMM.
URL:https://petindica.com.br/cursoseventos/curso-de-extensao-de-ferias-medicina-veterinaria-biologia-anatomia-e-reabilitacao-de-animais-marinhos-instituto-ibimm/
LOCATION:Núcleo IBIMM (2)\, Estr. do Guaraú\, 900 - Jd Guarau - Peruíbe - SP\, 11750-000\, Peruíbe\, SP\, Brasil
CATEGORIES:Congresso e Seminário,Veterinários
ATTACH;FMTTYPE=image/jpeg:https://petindica.com.br/wp-content/uploads/2022/03/Eventos-PetIndica-Instituto-IBIMM-14-a-18.07.2022.jpeg
ORGANIZER;CN="Instituto IBIMM":MAILTO:ibimm@ibimm.org.br
END:VEVENT
END:VCALENDAR