BEGIN:VCALENDAR
VERSION:2.0
PRODID:-// - ECPv6.8.1//NONSGML v1.0//EN
CALSCALE:GREGORIAN
METHOD:PUBLISH
X-ORIGINAL-URL:https://petindica.com.br
X-WR-CALDESC:Eventos para 
REFRESH-INTERVAL;VALUE=DURATION:PT1H
X-Robots-Tag:noindex
X-PUBLISHED-TTL:PT1H
BEGIN:VTIMEZONE
TZID:America/Sao_Paulo
BEGIN:STANDARD
TZOFFSETFROM:-0300
TZOFFSETTO:-0300
TZNAME:-03
DTSTART:20220101T000000
END:STANDARD
END:VTIMEZONE
BEGIN:VEVENT
DTSTART;TZID=America/Sao_Paulo:20220930T193000
DTEND;TZID=America/Sao_Paulo:20220930T213000
DTSTAMP:20260424T074624
CREATED:20220820T070346Z
LAST-MODIFIED:20220820T070346Z
UID:24804-1664566200-1664573400@petindica.com.br
SUMMARY:Palestra Outubro rosa pet - neoplasias mamárias * CCVET-NORDESTE
DESCRIPTION:CCVET Nordeste convida vocês Doutores \, Médicos Veterinários e Graduandos de Medicina Veterinária para assistir essa palestra com o Presidente da Sociedade Brasileira de Cirurgia Oncológica e Reconstrutiva Veterinária a SOBRACORVET! \nA palestra sobre “Neoplasias mamárias” acontecerá no dia 30/09\, às 19h30. \nInscrições abertas!! Sem dúvidas será um SHOW de APRENDIZADO!! Simmm com certificado. \nPara maiores informações e inscrições\, entre em contato através do número: (83) 98794-4759 ou através do Instagram: https://www.instagram.com/ccvetnordeste/ \nCCVET-NORDESTE.
URL:https://petindica.com.br/cursoseventos/palestra-outubro-rosa-pet-neoplasias-mamarias-ccvet-nordeste/
LOCATION:João Pessoa\, João Pessoa\, PB\, Brasil
CATEGORIES:Congresso e Seminário,Veterinários
ATTACH;FMTTYPE=image/jpeg:https://petindica.com.br/wp-content/uploads/2022/08/Eventos-PetIndica-CCVET-NORDESTE-30.09.2022.jpeg
END:VEVENT
END:VCALENDAR