BEGIN:VCALENDAR
VERSION:2.0
PRODID:-// - ECPv6.8.1//NONSGML v1.0//EN
CALSCALE:GREGORIAN
METHOD:PUBLISH
X-ORIGINAL-URL:https://petindica.com.br
X-WR-CALDESC:Eventos para 
REFRESH-INTERVAL;VALUE=DURATION:PT1H
X-Robots-Tag:noindex
X-PUBLISHED-TTL:PT1H
BEGIN:VTIMEZONE
TZID:America/Sao_Paulo
BEGIN:STANDARD
TZOFFSETFROM:-0300
TZOFFSETTO:-0300
TZNAME:-03
DTSTART:20230101T000000
END:STANDARD
END:VTIMEZONE
BEGIN:VEVENT
DTSTART;TZID=America/Sao_Paulo:20231008T090000
DTEND;TZID=America/Sao_Paulo:20231008T170000
DTSTAMP:20260423T073257
CREATED:20230919T131253Z
LAST-MODIFIED:20230919T131253Z
UID:29701-1696755600-1696784400@petindica.com.br
SUMMARY:Iniciação do Reiki nível I - o despertar * Reiki Animal
DESCRIPTION:Desperte para uma jornada de autodescoberta e cura com a “Iniciação do Reiki nível I – O Despertar”!\nUm curso de iniciação que traz o conhecimento e sabedoria da energia Reiki\, trazendo luz para nossas sombras e amor incondicional para nossos corações\, nos permitindo transmitir a cura expandindo-a do nosso interno para todo o externo.\n.\nA iniciação de Reiki I – Será abordado no nível I (com apostila):\n~ A linhagem do Reiki.\n~ Centros de energias (Aura e Chakras).\n~ Sons (mantras) e Símbolos (yantras).\n~ A lei dos 5 elementos.\n~ Os 3 pilares do Reiki.\n~ A autocura dos 21 dias.\n~ Primeiras posições para aplicação do reiki (com as mãos).\n~ Auto tratamento.\n~ Aplicação prática do Reiki entre os alunos.\n~Ética e responsabilidade do terapeuta.\n~ A importância do Reiki na atualidade.\n~ Entrega do certificado.\n.\nAcontecerá dia 08 de Outubro / 9h às 17h – @espaco_natividade em SP – Vagas Limitadas! \nVocê pode obter maiores informações e fazer a sua inscrição neste link: https://evento.blinket.com.br/iniciacao-reiki-nivel-i—o-despertar-_copia \nReiki Animal.
URL:https://petindica.com.br/cursoseventos/iniciacao-do-reiki-nivel-i-o-despertar-reiki-animal/
LOCATION:Espaço Natividade\, R. Natividade\, 72 - Vila Nova Conceição\, São Paulo - SP\, 04513-020\, São Paulo\, SP\, Brasil
CATEGORIES:Congresso e Seminário,PetShops,Tutores,Veterinários
ATTACH;FMTTYPE=image/jpeg:https://petindica.com.br/wp-content/uploads/2023/09/Eventos-PetIndica-Reiki-Animal-08.10.2023.jpeg
END:VEVENT
BEGIN:VEVENT
DTSTART;TZID=America/Sao_Paulo:20230402T090000
DTEND;TZID=America/Sao_Paulo:20230402T170000
DTSTAMP:20260423T073257
CREATED:20230314T030906Z
LAST-MODIFIED:20230314T030906Z
UID:28188-1680426000-1680454800@petindica.com.br
SUMMARY:Curso Reiki Nível I * Reiki Animal
DESCRIPTION:✨ Com muita alegria no coração anunciamos o lançamento da primeira turma de iniciação ao Reiki I – O despertar de 2023 🌟 \nUm curso que abre espaço e possibilita o processo de autoconhecimento\, expansão de consciência e harmonização dos chakras\, além de proporcionar cura e quebra de padrões limitantes pelo poder das mãos. 🙌🏼 \nSerá servido um lanche no horário do almoço com um valor a parte. \nVagas limitadas! \nOnde: Espaço Natividade – @espaco_natividade\nRua Natividade\, 72 – Vila Nova Conceição\, São Paulo\nData: Domingo\, 02 de Abril.\nHora: 9h às 17h. \nLink de inscrição disponível aqui: https://beacons.ai/reiki_animal 🌷 \nCom muito amor\, Rê e Pri ✨💛 \nReiki Animal.
URL:https://petindica.com.br/cursoseventos/curso-reiki-nivel-i-reiki-animal/
LOCATION:Espaço Natividade\, R. Natividade\, 72 - Vila Nova Conceição\, São Paulo - SP\, 04513-020\, São Paulo\, SP\, Brasil
CATEGORIES:Congresso e Seminário,PetShops,Tutores,Veterinários
ATTACH;FMTTYPE=image/jpeg:https://petindica.com.br/wp-content/uploads/2023/03/Eventos-PetIndica-Reiki-Animal-02.04.2023.jpeg
END:VEVENT
END:VCALENDAR