BEGIN:VCALENDAR
VERSION:2.0
PRODID:-// - ECPv6.8.1//NONSGML v1.0//EN
CALSCALE:GREGORIAN
METHOD:PUBLISH
X-ORIGINAL-URL:https://petindica.com.br
X-WR-CALDESC:Eventos para 
REFRESH-INTERVAL;VALUE=DURATION:PT1H
X-Robots-Tag:noindex
X-PUBLISHED-TTL:PT1H
BEGIN:VTIMEZONE
TZID:America/Sao_Paulo
BEGIN:STANDARD
TZOFFSETFROM:-0300
TZOFFSETTO:-0300
TZNAME:-03
DTSTART:20220101T000000
END:STANDARD
END:VTIMEZONE
BEGIN:VEVENT
DTSTART;TZID=America/Sao_Paulo:20230624T090000
DTEND;TZID=America/Sao_Paulo:20230624T170000
DTSTAMP:20260423T060635
CREATED:20230210T005251Z
LAST-MODIFIED:20230210T005251Z
UID:27723-1687597200-1687626000@petindica.com.br
SUMMARY:Curso de atualização dermatologia veterinária: aprendendo na teoria e aplicando na prática * CEV - Centro de Estudos Veterinários
DESCRIPTION:Apresentação teórica das principais dermatopatias que acometem o cão e gato\, com enfoque na conduta diagnóstica e terapêutica do veterinário. Aulas práticas com acompanhamento dos atendimentos de casos clínicos dermatológicos visando o desenvolvimento do raciocínio diagnóstico e conduta terapêutica\, aplicando o conteúdo teórico aprendido\, e desenvolvendo habilidades para o raciocínio clínico empregado no dia a dia dos atendimentos dermatológicos. \nCurso de atualização dermatologia veterinária: aprendendo na teoria e aplicando na prática – Programação: \nMódulo I: dia 24/06\, das 09h às 17h. \nMódulo II: dia 25/06\, das 09h às 17h. \nVocê pode obter maiores informações e fazer a sua inscrição neste link: https://cursoscev.com.br/curso/dermatologia-veterinaria \nCEV – Centro de Estudos Veterinários.
URL:https://petindica.com.br/cursoseventos/curso-de-atualizacao-dermatologia-veterinaria-aprendendo-na-teoria-e-aplicando-na-pratica-cev-centro-de-estudos-veterinarios/
LOCATION:CEV – Centro de Estudos Veterinários\, Rua Vicente de Lima Cleto\, 570 Itaúna – São Gonçalo\, Rio de Janeiro. CEP: 24461-561\, São Gonçalo\, RJ\, Brasil
CATEGORIES:Congresso e Seminário,Veterinários
ATTACH;FMTTYPE=image/jpeg:https://petindica.com.br/wp-content/uploads/2023/02/Eventos-PetIndica-CEV-Centro-de-Estudos-Veterinarios-24-e-25.06.2023.jpeg
END:VEVENT
BEGIN:VEVENT
DTSTART;TZID=America/Sao_Paulo:20230617T090000
DTEND;TZID=America/Sao_Paulo:20230617T170000
DTSTAMP:20260423T060635
CREATED:20230210T004303Z
LAST-MODIFIED:20230210T004303Z
UID:27720-1686992400-1687021200@petindica.com.br
SUMMARY:Curso de atualização: manejo e clínica de psitacídeos * CEV - Centro de Estudos Veterinários
DESCRIPTION:O que você irá aprender: \n\nAnatomia e fisiologia básica de psitacídeos;\nAlimentação e nutrição de psitacídeos;\nManejo na rotina clínica;\nDoenças nutricionais;\nPrincipais doenças e terapêutica na rotina clínica;\nDoenças infecciosas e terapêutica na rotina clínica;\nTécnicas de contenção física de psitacídeos;\nTécnicas de transporte;\nEmergências.\n\nCurso de atualização: manejo e clínica de psitacídeos – Programação: \nMódulo Único: dia 17/06\, das 09h às 17h. \nVocê pode obter maiores informações e fazer a sua inscrição neste link: https://cursoscev.com.br/curso/manejo-e-clinica-de-psitacideos \nCEV – Centro de Estudos Veterinários.
URL:https://petindica.com.br/cursoseventos/curso-de-atualizacao-manejo-e-clinica-de-psitacideos-cev-centro-de-estudos-veterinarios/
LOCATION:CEV – Centro de Estudos Veterinários\, Rua Vicente de Lima Cleto\, 570 Itaúna – São Gonçalo\, Rio de Janeiro. CEP: 24461-561\, São Gonçalo\, RJ\, Brasil
CATEGORIES:Congresso e Seminário,Veterinários
ATTACH;FMTTYPE=image/jpeg:https://petindica.com.br/wp-content/uploads/2023/02/Eventos-PetIndica-CEV-Centro-de-Estudos-Veterinarios-17.06.2023.jpeg
END:VEVENT
BEGIN:VEVENT
DTSTART;TZID=America/Sao_Paulo:20230520T090000
DTEND;TZID=America/Sao_Paulo:20230520T170000
DTSTAMP:20260423T060635
CREATED:20230210T003331Z
LAST-MODIFIED:20230210T003331Z
UID:27717-1684573200-1684602000@petindica.com.br
SUMMARY:Curso de atualização: manejo e clínica de pequenos mamíferos * CEV - Centro de Estudos Veterinários
DESCRIPTION:O que você irá aprender: \n\nAnatomia e fisiologia básica de pequenos mamíferos;\nPrincipais doenças e terapêutica na rotina clínica de pequenos mamíferos;\nAlimentação e nutrição de pequenos mamíferos;\nManejo na rotina clínica de pequenos mamíferos;\nEmergência em pequenos mamíferos.\nTécnicas de contenção física de pequenos mamíferos;\nTécnicas de transporte de pequenos mamíferos;\nRecinto ideal para pequenos mamíferos.\n\nCurso de atualização: manejo e clínica de pequenos mamíferos – Programação: \nMódulo Único: dia 20/05\, das 09h às 17h. \nVocê pode obter maiores informações e fazer a sua inscrição neste link: https://cursoscev.com.br/curso/manejo-e-clinica-de-pequenos-mamiferos \nCEV – Centro de Estudos Veterinários.
URL:https://petindica.com.br/cursoseventos/curso-de-atualizacao-manejo-e-clinica-de-pequenos-mamiferos-cev-centro-de-estudos-veterinarios/
LOCATION:CEV – Centro de Estudos Veterinários\, Rua Vicente de Lima Cleto\, 570 Itaúna – São Gonçalo\, Rio de Janeiro. CEP: 24461-561\, São Gonçalo\, RJ\, Brasil
CATEGORIES:Congresso e Seminário,Veterinários
ATTACH;FMTTYPE=image/jpeg:https://petindica.com.br/wp-content/uploads/2023/02/Eventos-PetIndica-CEV-Centro-de-Estudos-Veterinarios-20.05.2023.jpeg
END:VEVENT
BEGIN:VEVENT
DTSTART;TZID=America/Sao_Paulo:20230429T090000
DTEND;TZID=America/Sao_Paulo:20230429T170000
DTSTAMP:20260423T060635
CREATED:20230210T002334Z
LAST-MODIFIED:20230210T002334Z
UID:27714-1682758800-1682787600@petindica.com.br
SUMMARY:Curso de atualização: desvendando os desafios da otite canina * CEV - Centro de Estudos Veterinários
DESCRIPTION:Apresentação teórica das etiologias\, conduta diagnóstica e terapêutica das afecções da orelha externa dos cães. Acompanhamento dos atendimentos de casos clínicos otológicos visando o desenvolvimento do raciocínio diagnóstico e conduta terapêutica aplicando o conteúdo teórico ministrado. \nCurso de atualização: desvendando os desafios da otite canina – Programação: \nMódulo Único: dia 29/04\, das 09h às 17h. \nVocê pode obter maiores informações e fazer a sua inscrição neste link: https://cursoscev.com.br/curso/desvendando-os-desafios-da-otite-canina \nCEV – Centro de Estudos Veterinários.
URL:https://petindica.com.br/cursoseventos/curso-de-atualizacao-desvendando-os-desafios-da-otite-canina-cev-centro-de-estudos-veterinarios/
LOCATION:CEV – Centro de Estudos Veterinários\, Rua Vicente de Lima Cleto\, 570 Itaúna – São Gonçalo\, Rio de Janeiro. CEP: 24461-561\, São Gonçalo\, RJ\, Brasil
CATEGORIES:Congresso e Seminário,Veterinários
ATTACH;FMTTYPE=image/jpeg:https://petindica.com.br/wp-content/uploads/2023/02/Eventos-PetIndica-CEV-Centro-de-Estudos-Veterinarios-29.04.2023.jpeg
END:VEVENT
BEGIN:VEVENT
DTSTART;TZID=America/Sao_Paulo:20230403T090000
DTEND;TZID=America/Sao_Paulo:20230403T120000
DTSTAMP:20260423T060635
CREATED:20230210T001207Z
LAST-MODIFIED:20230210T001207Z
UID:27711-1680512400-1680523200@petindica.com.br
SUMMARY:Curso livre auxiliar de radiologia veterinária * CEV - Centro de Estudos Veterinários
DESCRIPTION:Este curso objetiva habilitar o aluno a auxiliar o Médico Veterinário no correto posicionamento de cães e gatos submetidos a exames radiográficos\, bem como na aplicação das normas de proteção radiológica e biossegurança\, além de apresentar os fundamentos da anatomia radiológica veterinária. \nPúblico à partir de 18 anos com ensino fundamental completo. \nCurso livre auxiliar de radiologia veterinária – Programação: \nMódulo Único: de 03 até 26/04. Segundas e Quartas das 09h às 12h. \nVocê pode obter maiores informações e fazer a sua inscrição neste link: https://cursoscev.com.br/curso/auxiliar-de-radiologia \nCEV – Centro de Estudos Veterinários.
URL:https://petindica.com.br/cursoseventos/curso-livre-auxiliar-de-radiologia-veterinaria-cev-centro-de-estudos-veterinarios/
LOCATION:CEV – Centro de Estudos Veterinários\, Rua Vicente de Lima Cleto\, 570 Itaúna – São Gonçalo\, Rio de Janeiro. CEP: 24461-561\, São Gonçalo\, RJ\, Brasil
CATEGORIES:Congresso e Seminário,Veterinários
ATTACH;FMTTYPE=image/jpeg:https://petindica.com.br/wp-content/uploads/2023/02/Eventos-PetIndica-CEV-Centro-de-Estudos-Veterinarios-03-a-26.04.2023.jpeg
END:VEVENT
BEGIN:VEVENT
DTSTART;TZID=America/Sao_Paulo:20230401T090000
DTEND;TZID=America/Sao_Paulo:20230401T170000
DTSTAMP:20260423T060635
CREATED:20230209T235443Z
LAST-MODIFIED:20230209T235443Z
UID:27708-1680339600-1680368400@petindica.com.br
SUMMARY:Curso de atualização uso racional de antibióticos na clínica veterinária * CEV - Centro de Estudos Veterinários
DESCRIPTION:Apresentação teórica das principais classes de antibióticos usados na rotina clínica\, sua aplicação nas infecções nos diferentes sistemas e o que é o Uso Racional de Antibióticos. \nCurso de atualização uso racional de antibióticos na clínica veterinária – Programação: \nMódulo Único: dia 01/04\, das 09h às 17h. \nVocê pode obter maiores informações e fazer a sua inscrição neste link: https://cursoscev.com.br/curso/uso-racional-de-antibioticos-na-clinica-veterinaria \nCEV – Centro de Estudos Veterinários.
URL:https://petindica.com.br/cursoseventos/curso-de-atualizacao-uso-racional-de-antibioticos-na-clinica-veterinaria-cev-centro-de-estudos-veterinarios/
LOCATION:CEV – Centro de Estudos Veterinários\, Rua Vicente de Lima Cleto\, 570 Itaúna – São Gonçalo\, Rio de Janeiro. CEP: 24461-561\, São Gonçalo\, RJ\, Brasil
CATEGORIES:Congresso e Seminário,Veterinários
ATTACH;FMTTYPE=image/jpeg:https://petindica.com.br/wp-content/uploads/2023/02/Eventos-PetIndica-CEV-Centro-de-Estudos-Veterinarios-01.04.2023-1.jpeg
END:VEVENT
BEGIN:VEVENT
DTSTART;TZID=America/Sao_Paulo:20230304T090000
DTEND;TZID=America/Sao_Paulo:20230304T170000
DTSTAMP:20260423T060635
CREATED:20230209T233309Z
LAST-MODIFIED:20230209T233309Z
UID:27704-1677920400-1677949200@petindica.com.br
SUMMARY:Curso de atualização obstrução uretral felina * CEV - Centro de Estudos Veterinários
DESCRIPTION:Neste curso você irá rever os principais conceitos desta afecção; como identificar e avaliar os seus sinais clínicos; as características epidemiológicas\, como chegar ao diagnóstico e quais as formas de tratamento\, além de identificar os possíveis fatores e causas predisponentes envolvidos\, permitindo a você uma abordagem mais clara e assertiva desta afecção. \nCurso de atualização obstrução uretral felina – Programação: \nMódulo Único: dia 04/03\, das 09h às 17h. \nVocê pode obter maiores informações e fazer a sua inscrição neste link: https://cursoscev.com.br/curso/obstrucao-uretral-felina \nCEV – Centro de Estudos Veterinários.
URL:https://petindica.com.br/cursoseventos/curso-de-atualizacao-obstrucao-uretral-felina-cev-centro-de-estudos-veterinarios/
LOCATION:CEV – Centro de Estudos Veterinários\, Rua Vicente de Lima Cleto\, 570 Itaúna – São Gonçalo\, Rio de Janeiro. CEP: 24461-561\, São Gonçalo\, RJ\, Brasil
CATEGORIES:Congresso e Seminário,Veterinários
ATTACH;FMTTYPE=image/jpeg:https://petindica.com.br/wp-content/uploads/2023/02/Eventos-PetIndica-CEV-Centro-de-Estudos-Veterinarios-04.03.2023.jpeg
END:VEVENT
BEGIN:VEVENT
DTSTART;VALUE=DATE:20230415
DTEND;VALUE=DATE:20230416
DTSTAMP:20260423T060635
CREATED:20230208T234849Z
LAST-MODIFIED:20230208T234849Z
UID:27692-1681516800-1681603199@petindica.com.br
SUMMARY:Curso de capacitação para plantonista veterinário * CEV - Centro de Estudos Veterinários
DESCRIPTION:O plantão é\, muitas vezes\, a porta de entrada para o mercado de trabalho do Médico Veterinário. Infelizmente\, em muitos casos\, a faculdade não prepara os formandos para essa realidade\, o que causa muita insegurança nos plantonistas. \nPensando em te ajudar com essa dificuldade\, te levando a conquistar cada vez mais segurança em seus atendimentos\, o CEV – Centro de Estudos Veterinários de São Gonçalo\, oferece  o CURSO DE CAPACITAÇÃO PARA PLANTONISTA VETERINÁRIO\, com foco nos assuntos mais importantes no dia a dia dos plantões. \nAtravés da atualização técnica do conhecimento teórico e muito treinamento prático\, você terá a oportunidade de desenvolver o raciocínio de diagnóstico e conduta terapêutica mais assertiva nas diferentes áreas da Clínica Médica Veterinária. \nCurso de capacitação para plantonista veterinário – Programação: \nMódulo I: dias 15 e 16/04. \nMódulo II: dias 20 e 21/05. \nMódulo III: dias 17 e 18/06. \nMódulo IV: dias 15 e 16/07. \nMódulo V: dias 19 e 20/08. \nValor do primeiro lote\, até 28/02: R$ 2.500\,00. \nVocê pode obter maiores informações e fazer a sua inscrição neste link: https://cursoscev.com.br/curso/capacitacao-para-plantonista-veterinario \nCEV – Centro de Estudos Veterinários.
URL:https://petindica.com.br/cursoseventos/curso-de-capacitacao-para-plantonista-veterinario-cev-centro-de-estudos-veterinarios/
LOCATION:CEV – Centro de Estudos Veterinários\, Rua Vicente de Lima Cleto\, 570 Itaúna – São Gonçalo\, Rio de Janeiro. CEP: 24461-561\, São Gonçalo\, RJ\, Brasil
CATEGORIES:Congresso e Seminário,Veterinários
ATTACH;FMTTYPE=image/jpeg:https://petindica.com.br/wp-content/uploads/2023/02/Eventos-PetIndica-CEV-Centro-de-Estudos-Veterinarios-15.04.2023.jpeg
END:VEVENT
BEGIN:VEVENT
DTSTART;VALUE=DATE:20230401
DTEND;VALUE=DATE:20230402
DTSTAMP:20260423T060635
CREATED:20230208T231854Z
LAST-MODIFIED:20230208T235034Z
UID:27688-1680307200-1680393599@petindica.com.br
SUMMARY:Curso de cirurgias de tecidos moles em cães e gatos * CEV - Centro de Estudos Veterinários
DESCRIPTION:Este curso tem como objetivo proporcionar aos participantes\, o  embasamento teórico e o treinamento prático de técnicas cirúrgicas de rotina do dia a dia do médico veterinário. São procedimentos comuns nas clínicas veterinárias\, mas que  por desconhecimento técnico\, grande parte dos profissionais não os realizam. Desta forma\, o treinamento e capacitação do médico veterinário para a realização de diferentes procedimentos cirúrgicos é condição fundamental para o sucesso deste profissional no mercado de trabalho. \nCurso de cirurgias de tecidos moles em cães e gatos – Programação: \nMódulo I: dias 01 e 02/04. \nMódulo II: dias 06 e 07/05. \nMódulo III: dias 03 e 04/06. \nMódulo IV: dias 01 e 02/07. \nMódulo V: dias 05 e 06/08. \nValor do primeiro lote\, até 28/02: R$ 2.500\,00. \nVocê pode obter maiores informações e fazer a sua inscrição neste link: https://cursoscev.com.br/curso/cirurgias-de-tecidos-moles-em-caes-e-gatos \nCEV – Centro de Estudos Veterinários.
URL:https://petindica.com.br/cursoseventos/curso-de-cirurgias-de-tecidos-moles-em-caes-e-gatos-cev-centro-de-estudos-veterinarios/
LOCATION:CEV – Centro de Estudos Veterinários\, Rua Vicente de Lima Cleto\, 570 Itaúna – São Gonçalo\, Rio de Janeiro. CEP: 24461-561\, São Gonçalo\, RJ\, Brasil
CATEGORIES:Congresso e Seminário,Veterinários
ATTACH;FMTTYPE=image/jpeg:https://petindica.com.br/wp-content/uploads/2023/02/Eventos-PetIndica-CEV-Centro-de-Estudos-Veterinarios-01.04.2023.jpeg
END:VEVENT
BEGIN:VEVENT
DTSTART;TZID=America/Sao_Paulo:20221119T090000
DTEND;TZID=America/Sao_Paulo:20221119T170000
DTSTAMP:20260423T060635
CREATED:20220925T234223Z
LAST-MODIFIED:20220925T234223Z
UID:25617-1668848400-1668877200@petindica.com.br
SUMMARY:Curso de atualização em dermatologia veterinária: aprendendo na teoria e aplicando na prática * CEV - Centro de Estudos Veterinários
DESCRIPTION:Apresentação teórica das principais dermatopatias que acometem o cão e gato\, com enfoque na conduta diagnóstica e terapêutica do veterinário. Aulas práticas com acompanhamento dos atendimentos de casos clínicos dermatológicos visando o desenvolvimento do raciocínio diagnóstico e conduta terapêutica\, aplicando o conteúdo teórico aprendido\, e desenvolvendo habilidades para o raciocínio clínico empregado no dia a dia dos atendimentos dermatológicos. \nO curso acontecerá nos dias 19 e 20/11\, das 09h às 17h. \nConteúdo preparado para você fixar o que aprendeu. Você terá acesso a materiais reais para prática. \nVocê pode obter maiores informações e fazer a sua inscrição neste link: https://cursoscev.com.br/curso/dermatologia-veterinaria \nCEV – Centro de Estudos Veterinários.
URL:https://petindica.com.br/cursoseventos/curso-de-atualizacao-em-dermatologia-veterinaria-aprendendo-na-teoria-e-aplicando-na-pratica-cev-centro-de-estudos-veterinarios/
LOCATION:CEV – Centro de Estudos Veterinários\, Rua Vicente de Lima Cleto\, 570 Itaúna – São Gonçalo\, Rio de Janeiro. CEP: 24461-561\, São Gonçalo\, RJ\, Brasil
CATEGORIES:Congresso e Seminário,Veterinários
ATTACH;FMTTYPE=image/jpeg:https://petindica.com.br/wp-content/uploads/2022/09/Eventos-PetIndica-CEV-–-Centro-de-Estudos-Veterinarios-19-e-20.11.2022.jpeg
END:VEVENT
BEGIN:VEVENT
DTSTART;TZID=America/Sao_Paulo:20220924T090000
DTEND;TZID=America/Sao_Paulo:20220924T170000
DTSTAMP:20260423T060635
CREATED:20220918T233516Z
LAST-MODIFIED:20220918T233516Z
UID:25318-1664010000-1664038800@petindica.com.br
SUMMARY:Curso de atualização - cirurgia de rotina na clínica de pequenos animais * CEV - Centro de Estudos Veterinários
DESCRIPTION:O Curso de atualização – cirurgia de rotina na clínica de pequenos animais acontecerá nos dias 24 e 25 de Setembro\, das 9h às 17h. \nCarga horária: 16 horas. \nVocê pode obter maiores informações e fazer a sua inscrição neste link: https://cursoscev.com.br/curso/cirurgias-de-rotina-na-clinica-de-pequenos-animais \nCEV – Centro de Estudos Veterinários.
URL:https://petindica.com.br/cursoseventos/curso-de-atualizacao-cirurgia-de-rotina-na-clinica-de-pequenos-animais-cev-centro-de-estudos-veterinarios/
LOCATION:CEV – Centro de Estudos Veterinários\, Rua Vicente de Lima Cleto\, 570 Itaúna – São Gonçalo\, Rio de Janeiro. CEP: 24461-561\, São Gonçalo\, RJ\, Brasil
CATEGORIES:Congresso e Seminário,Veterinários
ATTACH;FMTTYPE=image/jpeg:https://petindica.com.br/wp-content/uploads/2022/09/Eventos-PetIndica-CEV-Centro-de-Estudos-Veterinarios-24-e-25.09.2022.jpeg
END:VEVENT
BEGIN:VEVENT
DTSTART;TZID=America/Sao_Paulo:20220903T090000
DTEND;TZID=America/Sao_Paulo:20220903T170000
DTSTAMP:20260423T060635
CREATED:20220901T024059Z
LAST-MODIFIED:20220901T024059Z
UID:25048-1662195600-1662224400@petindica.com.br
SUMMARY:Curso Desvendando os desafios da otite canina * CEV - Centro de Estudos Veterinários
DESCRIPTION:Curso de atualização presencial: Desvendando a otite canina. \nPré-requisito: Estudantes cursando à partir do 4º período de Medicina Veterinária ou Médicos Veterinários formados. \nDia 03 de Setembro\, das 9h às 17h.\nCarga horária: 8 horas. \nO que você irá aprender: Apresentação teórica das etiologias\, conduta diagnóstica e terapêutica das afecções da orelha externa dos cães. Acompanhamento dos atendimentos de casos clínicos otológicos visando o desenvolvimento do raciocínio diagnóstico e conduta terapêutica aplicando o conteúdo teórico ministrado. \nVocê pode obter maiores informações e fazer a sua inscrição neste link: https://cursoscev.com.br/curso/desvendando-os-desafios-da-otite-canina \nCEV – Centro de Estudos Veterinários.
URL:https://petindica.com.br/cursoseventos/curso-desvendando-os-desafios-da-otite-canina-cev-centro-de-estudos-veterinarios/
LOCATION:CEV – Centro de Estudos Veterinários\, Rua Vicente de Lima Cleto\, 570 Itaúna – São Gonçalo\, Rio de Janeiro. CEP: 24461-561\, São Gonçalo\, RJ\, Brasil
CATEGORIES:Congresso e Seminário,Veterinários
ATTACH;FMTTYPE=image/jpeg:https://petindica.com.br/wp-content/uploads/2022/08/Eventos-PetIndica-CEV-Centro-de-Estudos-Veterinarios-03.09.2022.jpeg
END:VEVENT
END:VCALENDAR